BEGIN:VCALENDAR
VERSION:2.0
PRODID:-//Canal Reus - ECPv6.15.18//NONSGML v1.0//EN
CALSCALE:GREGORIAN
METHOD:PUBLISH
X-WR-CALNAME:Canal Reus
X-ORIGINAL-URL:https://canalreus.cat
X-WR-CALDESC:Esdeveniments per Canal Reus
REFRESH-INTERVAL;VALUE=DURATION:PT1H
X-Robots-Tag:noindex
X-PUBLISHED-TTL:PT1H
BEGIN:VTIMEZONE
TZID:Europe/Madrid
BEGIN:DAYLIGHT
TZOFFSETFROM:+0100
TZOFFSETTO:+0200
TZNAME:CEST
DTSTART:20250330T010000
END:DAYLIGHT
BEGIN:STANDARD
TZOFFSETFROM:+0200
TZOFFSETTO:+0100
TZNAME:CET
DTSTART:20251026T010000
END:STANDARD
BEGIN:DAYLIGHT
TZOFFSETFROM:+0100
TZOFFSETTO:+0200
TZNAME:CEST
DTSTART:20260329T010000
END:DAYLIGHT
BEGIN:STANDARD
TZOFFSETFROM:+0200
TZOFFSETTO:+0100
TZNAME:CET
DTSTART:20261025T010000
END:STANDARD
BEGIN:DAYLIGHT
TZOFFSETFROM:+0100
TZOFFSETTO:+0200
TZNAME:CEST
DTSTART:20270328T010000
END:DAYLIGHT
BEGIN:STANDARD
TZOFFSETFROM:+0200
TZOFFSETTO:+0100
TZNAME:CET
DTSTART:20271031T010000
END:STANDARD
END:VTIMEZONE
BEGIN:VEVENT
DTSTART;TZID=Europe/Madrid:20260320T110000
DTEND;TZID=Europe/Madrid:20260509T130000
DTSTAMP:20260425T164721
CREATED:20260323T091151Z
LAST-MODIFIED:20260323T091154Z
UID:57487-1774004400-1778331600@canalreus.cat
SUMMARY:Exposició | Natura: presència i refugi
DESCRIPTION:Tatiana Blanqué i Laura Nieto dialoguen amb els seus paisatges a la Galeria Anquins \n\n\n\nLa Galeria d’art Anquins presenta l’exposició Natura: presència i refugi de les artistes TatianaBlanqué i Laura Nieto. La inauguració tindrà lloc el divendres 20 de març a les 19:30h ambpresència de les artistes.L’exposició proposa un diàleg entre dues artistes que\, tot i ser d’estils diferents\, situen la natura i elpaisatge com a protagonistes de la seva obra. \n\n\n\nEn la pintura de Laura Nieto\, la vegetació ocupa un paper central i es desplega amb una presènciaintensa i expansiva. Tatiana Blanqué\, en canvi\, treballa el paisatge des d’una perspectiva més contemplativa. Les seves obres\, marcades per una gran sensibilitat\, proposen una pausa davant el ritme accelerat de la vida urbana i quotidiana. \n\n\n\nInauguració: Divendres 20 de març de 2026 a les 19:30 hDates: Del 20 de març al 9 de maig de 2026Lloc: Galeria d’Art Anquins. C/Campoamor\, 2 – 43202 ReusEntrada: Gratuïta i oberta a tots els públicsHoraris de la galeria: De dimarts a divendres\, d’11:00 a 13:30 i de 17:00 a 20:00 h. Dissabtes 11:00 a 13:30 h.
URL:https://canalreus.cat/esdeveniments/exposicio-natura-presencia-i-refugi/
LOCATION:Catalunya
ATTACH;FMTTYPE=image/png:https://canalreus.cat/wp-content/uploads/2026/03/image-54.png
END:VEVENT
BEGIN:VEVENT
DTSTART;TZID=Europe/Madrid:20260330T180000
DTEND;TZID=Europe/Madrid:20260425T180000
DTSTAMP:20260425T164721
CREATED:20260407T084459Z
LAST-MODIFIED:20260407T084501Z
UID:58722-1774893600-1777140000@canalreus.cat
SUMMARY:Festival Teatre Màgic | Tarragona
DESCRIPTION:El Festival Internacional de màgia Teatre Màgic\, es celebra a Tarragona apostant per la qualitat i portant els millors espectacles d’il·lusionisme del nostre país i del panorama internacional. \n\n\n\nAquesta proposta dirigida pel Mag Gerard s’ha consolidat en les seves diverses edicions\, aconseguint una nova dimensió social i convertint-se en un referent cultural. En aquest gran esdeveniment han actuat els mags i il·lusionistes més famosos\, representatius i de més prestigi del nostre país\, que en molts casos actuaven per primera vegada a la província de Tarragona: Juan Tamariz\, Anthony Blake\, la maga Inés\, Màgic Andreu\, l’americà Avner The Eccentric\, el francès Pilou premiat amb el Gran Premi Mundial de Màgia o els argentins Brando y Silvana. La filosofia d’aquest singular festival és retornar la màgia al seu lloc d’origen: els teatres.
URL:https://canalreus.cat/esdeveniments/festival-teatre-magic-tarragona/
LOCATION:Catalunya
ATTACH;FMTTYPE=image/png:https://canalreus.cat/wp-content/uploads/2026/04/image-5.png
END:VEVENT
BEGIN:VEVENT
DTSTART;TZID=Europe/Madrid:20260407T180000
DTEND;TZID=Europe/Madrid:20260430T180000
DTSTAMP:20260425T164721
CREATED:20260407T081512Z
LAST-MODIFIED:20260407T081514Z
UID:58710-1775584800-1777572000@canalreus.cat
SUMMARY:Programació Casal de Joves | Reus
DESCRIPTION:El Casal de Joves de Reus arrenca el mes d’abril amb una programació diversa i creativa pensada per a joves de 12 a 25 anys\, que combina tallers\, clubs de lectura\, activitats de cuina\, espais de reflexió\, entre d’altres. \n\n\n\nDurant el mes d’abril\, també hi haurà altres activitats com són: \n\n\n\n\nTaller de cuina Cultivant (7 d’abril): collir\, cuinar i gaudir de productes de l’hort.\n\n\n\nGrup LGTBIQ+. Xocolatada (8 d’abril): espai segur i de trobada per a joves de 14 a 25 anys.\n\n\n\nDescobreix el Jugger (9 d’abril): esport mixt que combina estratègia\, dinamisme i diversió.\n\n\n\nJornades de treball a l’hort (14 i 28 d’abril): cultivar\, aprendre i connectar amb la natura.\n\n\n\nRed Flags i límits dins la programació de NEXES (15 d’abril): sessió sobre relacions\, consentiment i benestar emocional.\n\n\n\nTothom amb la petanca! (16 d’abril): projecte intergeneracional amb el Club de Petanca Horts de Simó.\n\n\n\nSortida amb la Ganxeta (21 d’abril): pedalada fins a la Bassa Nova i visita a l’hort jove.\n\n\n\nReus Talent Jove (25 d’abril): gran festa juvenil amb més de 40 activitats\, concerts i paradetes a la Plaça Llibertat.\n\n\n\nTaller de sopars exprés al Centre Cívic Migjorn (29 d’abril): cuina ràpida\, saludable i saborosa.
URL:https://canalreus.cat/esdeveniments/programacio-casal-de-joves-reus/
LOCATION:Casal de Joves\, C/ de Castellvell\, 24 43202 - Reus\, Reus\, Tarragona\, Spain
ATTACH;FMTTYPE=image/png:https://canalreus.cat/wp-content/uploads/2026/04/image-1.png
END:VEVENT
BEGIN:VEVENT
DTSTART;TZID=Europe/Madrid:20260408T183000
DTEND;TZID=Europe/Madrid:20260425T183000
DTSTAMP:20260425T164721
CREATED:20260325T130551Z
LAST-MODIFIED:20260325T130553Z
UID:57770-1775673000-1777141800@canalreus.cat
SUMMARY:Exposició: Homentage a Antoni Gaudí
DESCRIPTION:Vestíbul del Centre de Lectura \n\n\n\n«Any Gaudí» \n\n\n\nInauguració de l’exposició «Homenatge a Gaudí» del Col·lectiu Foto Torroella. Fins al 25 d’abril.
URL:https://canalreus.cat/esdeveniments/exposicio-homentage-a-antoni-gaudi/
LOCATION:Centre de Lectura\, Carrer Major\, 15\, Reus\, 43201\, Spain
ATTACH;FMTTYPE=image/png:https://canalreus.cat/wp-content/uploads/2026/03/image-74.png
END:VEVENT
BEGIN:VEVENT
DTSTART;TZID=Europe/Madrid:20260410T200000
DTEND;TZID=Europe/Madrid:20260516T200000
DTSTAMP:20260425T164721
CREATED:20260325T132254Z
LAST-MODIFIED:20260325T132255Z
UID:57788-1775851200-1778961600@canalreus.cat
SUMMARY:Exposició: Fills industrials
DESCRIPTION:Sala Fortuny \n\n\n\nInauguració de l’exposició «Fills industrials»\, de Foham Fonesz. A cura de Quim Torres. Fins al 16 de maig.
URL:https://canalreus.cat/esdeveniments/exposicio-fills-industrials/
LOCATION:Centre de Lectura\, Carrer Major\, 15\, Reus\, 43201\, Spain
ATTACH;FMTTYPE=image/png:https://canalreus.cat/wp-content/uploads/2026/03/image-78.png
END:VEVENT
BEGIN:VEVENT
DTSTART;TZID=Europe/Madrid:20260413T180000
DTEND;TZID=Europe/Madrid:20260513T180000
DTSTAMP:20260425T164721
CREATED:20260407T082144Z
LAST-MODIFIED:20260407T082145Z
UID:58714-1776103200-1778695200@canalreus.cat
SUMMARY:Elecció pubillatge | Cambrils
DESCRIPTION:El 17 de maig se celebrarà un acte a la Torre del Llimó en homenatge a totes les persones que han participat en aquesta tradició al llarg de la història. \n\n\n\nEl dilluns 13 d’abril s’obre la convocatòria per l’elecció del Pubillatge de Cambrils 2026\, que representarà el municipi en tots els actes i festes populars i tradicionals. Les persones interessades en convertir-se en Pubilla o Hereu s’hi poden presentar a títol personal o en representació d’una entitat. El termini per presentar les sol·licituds acaba el 13 de maig.   \n\n\n\nLes bases completes es poden consultar en aquest enllaç: https://www.cambrils.cat/ca/serveis/festes/pubilles-i-hereus
URL:https://canalreus.cat/esdeveniments/eleccio-pubillatge-cambrils/
LOCATION:Catalunya
ATTACH;FMTTYPE=image/png:https://canalreus.cat/wp-content/uploads/2026/04/image-3-scaled.png
END:VEVENT
BEGIN:VEVENT
DTSTART;TZID=Europe/Madrid:20260415T180000
DTEND;TZID=Europe/Madrid:20260505T180000
DTSTAMP:20260425T164721
CREATED:20260414T121036Z
LAST-MODIFIED:20260414T121038Z
UID:59293-1776276000-1778004000@canalreus.cat
SUMMARY:Exposició: Espigolar per transformar
DESCRIPTION:Del 15 d’abril al 5 de maig\, l’exposició “Espigolar per Transformar” de la Fundació Espigoladors amb el suport de la Generalitat de Catalunya aterra al Mercat Central de Reus\, Tarragona. \n\n\n\nLa mostra proposa un recorregut crític i emocional per les contradiccions del sistema agroalimentari actual\, les pèrdues alimentàries al camp i les respostes que sorgeixen des de l’acció col·lectiva\, amb l’espigolament com a eix poètic\, polític i transformador. \n\n\n\nEs tracta d’un exposició que aposta per una aproximació artística a una qüestió profundament tècnica i estructural: la problemàtica de les pèrdues alimentàries al camp. Davant la sobrecàrrega textual de moltes mostres didàctiques\, aquesta proposta opta per un llenguatge visual que connecta amb el visitant des de l’empatia\, l’estètica i l’experiència directa. \n\n\n\nL’exposició ve acompanyada d’un seguit d’activitats paral·leles: \n\n\n\n\nVisites guiades per a ciutadania (diverses dates i horaris). Inscripcions.\n\n\n\nVisites guiades per a grups escolars (diverses dates i horaris). Inscripcions.\n\n\n\nJornada tècnica de corresponsabilitat contra les pèrdues alimentàries al sector primari (29/04 de 18 a 19:30 h). Inscripcions.\n\n\n\nEl Programa de Gestió Alimentària Responsable de Reus. Un exemple de treball compartit (30/04 de 17:30 a 19 h). Inscripcions.\n\n\n\n\nLes pròximes activitats s’anunciaran a les pàgines web i xarxes socials de la Fundació Espigoladors.
URL:https://canalreus.cat/esdeveniments/exposicio-espigolar-per-transformar/
LOCATION:Catalunya
ATTACH;FMTTYPE=image/png:https://canalreus.cat/wp-content/uploads/2026/04/image-29.png
END:VEVENT
BEGIN:VEVENT
DTSTART;TZID=Europe/Madrid:20260425T193000
DTEND;TZID=Europe/Madrid:20260425T193000
DTSTAMP:20260425T164721
CREATED:20260414T115821Z
LAST-MODIFIED:20260414T115822Z
UID:59288-1777145400-1777145400@canalreus.cat
SUMMARY:Concert commemoratiu: Música a l'entorn de l'arribada de la relíquia de Sant Pere a Reus
DESCRIPTION:
URL:https://canalreus.cat/esdeveniments/concert-commemoratiu-musica-a-lentorn-de-larribada-de-la-reliquia-de-sant-pere-a-reus/
LOCATION:Prioral de Sant Pere\, Plaça Sant Pere\, Reus\, 43201\, Spain
ATTACH;FMTTYPE=image/png:https://canalreus.cat/wp-content/uploads/2026/04/image-28.png
END:VEVENT
BEGIN:VEVENT
DTSTART;TZID=Europe/Madrid:20260425T200000
DTEND;TZID=Europe/Madrid:20260425T200000
DTSTAMP:20260425T164721
CREATED:20260107T141719Z
LAST-MODIFIED:20260107T141721Z
UID:51105-1777147200-1777147200@canalreus.cat
SUMMARY:Teatre: Qui va matar el meu pare
DESCRIPTION:Autoria: Édouard Louis. Traducció: Rubén Luzon. Direcció: Pau Roca. Intèrpretació: Dafnis Balduz. Espai escènic: Paula Bosch. Disseny de llums: Guillem Gelabert. Disseny de vestuari: Pol Cornudella. Disseny de so: Edu Alves. Moviment: Laia Duran. Ajudanta de direcció: Júlia Cortina. Producció executiva: Pol Cornudella & Adriana Nadal. \n\n\n\nAgraiments: Josep Maria Mestres. \n\n\n\nUna producció de Sixto Paz Produccions i el Festival GREC de Barcelona\, amb el suport de l’ICEC-Departament de Cultura de la Generalitat de Catalunya. \n\n\n\nSINOPSI \n\n\n\nEl govern d’Emmanuel Macron retira cinc euros als francesos que es troben en una situació precària\, reté cinc euros al mes dels ajuts socials que permeten als més pobres de França trobar allotjament i pagar un lloguer. El mateix dia\, o gairebé\, tant hi fa\, Macron anuncia una baixada dels impostos per a les persones més riques de frança. Pensa que els pobres són massa rics i que els rics no són prou rics. El seu govern precisa que cinc euros no són res. No en tenen ni idea. \n\n\n\nPronuncien aquestes frases criminals perquè no en tenen ni idea. Hollande\, Valls\, El Khomri\, Hirsch\, Sarkozy\, Macron\, Bertrand\, Chirac. La història del teu patiment té noms. La història de la teva vida és la història d’aquestes persones que es van succeir per fer-te caure. La història del teu cos és la història d’aquests noms que es van succeir per destruir-lo. La història del teu cos acusa la història política. \n\n\n\nSempre hem d’acabar oblidant-ho tot? \n\n\n\nDurada: 75 minuts
URL:https://canalreus.cat/esdeveniments/teatre-qui-va-matar-el-meu-pare/
LOCATION:Catalunya
ATTACH;FMTTYPE=image/webp:https://canalreus.cat/wp-content/uploads/2026/01/image-55.webp
END:VEVENT
BEGIN:VEVENT
DTSTART;TZID=Europe/Madrid:20260425T200000
DTEND;TZID=Europe/Madrid:20260425T200000
DTSTAMP:20260425T164721
CREATED:20260107T143326Z
LAST-MODIFIED:20260107T143327Z
UID:51115-1777147200-1777147200@canalreus.cat
SUMMARY:Concert: Sergio Dalma
DESCRIPTION:Sergio Dalma torna a Tarragona amb el seu tour ‘Ritorno a Via Dalma’. Una gira d’importants recintes amb la qual recorrerà les principals ciutats de la geografia espanyola\, on el públic podrà gaudir d’un repàs de tots els temes italians que componen l’univers ‘VIA DALMA’. Una oportunitat magnífica per a gaudir escoltant algunes de les cançons italianes més populars en la veu d’un artista irrepetible.o aquesta
URL:https://canalreus.cat/esdeveniments/concert-sergio-dalma/
LOCATION:Tarraco Arena\, Carrer de Mallorca\, 18\, 43001 Tarragona\, Tarragona\, Tarragona\, Spain
ATTACH;FMTTYPE=image/webp:https://canalreus.cat/wp-content/uploads/2026/01/image-58.webp
END:VEVENT
BEGIN:VEVENT
DTSTART;TZID=Europe/Madrid:20260425T200000
DTEND;TZID=Europe/Madrid:20260425T200000
DTSTAMP:20260425T164721
CREATED:20260107T143615Z
LAST-MODIFIED:20260107T143617Z
UID:51118-1777147200-1777147200@canalreus.cat
SUMMARY:Teatre: Corta el cable rojo
DESCRIPTION:Talla el Cable Rojo és l’espectacle més longeu i més ben assentat de la milla d’or del teatre al país. Un espectacle que destaca pel seu plantejament original\, novetat constant i humor gairebé sense buscar-lo. Aquests són alguns dels factors que han fet que el públic esclati de riure i segueixi apostant per aquesta obra improvisació sense igual. Ara\, la comèdia més hilarant i explosiva dels darrers anys arriba al Palau Firal i de Congressos de Tarragona acompanya de música en directe i agosarades projeccions. T’ho perdràs?
URL:https://canalreus.cat/esdeveniments/teatre-corta-el-cable-rojo/
LOCATION:Palau Firal de Tarragona\, Carrer Arquitecte Rovira\, 2\, 43001 Tarragona\, Tarragona\, Tarragona\, Spain
ATTACH;FMTTYPE=image/webp:https://canalreus.cat/wp-content/uploads/2026/01/image-59.webp
END:VEVENT
BEGIN:VEVENT
DTSTART;TZID=Europe/Madrid:20260425T200000
DTEND;TZID=Europe/Madrid:20260425T230000
DTSTAMP:20260425T164721
CREATED:20260422T074407Z
LAST-MODIFIED:20260422T074411Z
UID:59831-1777147200-1777158000@canalreus.cat
SUMMARY:Concert: Mishima
DESCRIPTION:Torna “La Nit de les Roses” al Fortuny amb Mishima\, un esdeveniment espectacular i solidari\, on la música i la solidaritat s’uneixen i fan viure moments inoblidables. Un acte per gaudir de la música i col·laborar amb la Fundació Bara.
URL:https://canalreus.cat/esdeveniments/concert-mishima/
LOCATION:Teatre Fortuny\, Plaça Prim 4\, Reus\, Catalunya\, 43201\, Espanya
ATTACH;FMTTYPE=image/png:https://canalreus.cat/wp-content/uploads/2026/04/image-38-e1776843756815.png
END:VEVENT
BEGIN:VEVENT
DTSTART;TZID=Europe/Madrid:20260425T203000
DTEND;TZID=Europe/Madrid:20260425T203000
DTSTAMP:20260425T164721
CREATED:20260114T150325Z
LAST-MODIFIED:20260114T150327Z
UID:51717-1777149000-1777149000@canalreus.cat
SUMMARY:Festival Accents: Mishima
DESCRIPTION:Mishima tornarà a Reus per segon any consecutiu amb La nit de les roses. Després de l’èxit de la passada edició\, la banda portarà de nou aquest concert únic -que inicialment només s’havia pogut escoltar a La Paloma de Barcelona- al Teatre Fortuny\, el dissabte 25 d’abril\, dins la programació del festival Les Perles de l’Accents. La música del grup liderat per David Carabén estarà acompanyada amb les creacions de 3 poetes contemporanis que obriran la nit. 
URL:https://canalreus.cat/esdeveniments/festival-accents-mishima/
LOCATION:Teatre Fortuny\, Plaça Prim 4\, Reus\, Catalunya\, 43201\, Espanya
ATTACH;FMTTYPE=image/webp:https://canalreus.cat/wp-content/uploads/2026/01/image-117.webp
END:VEVENT
BEGIN:VEVENT
DTSTART;TZID=Europe/Madrid:20260425T203000
DTEND;TZID=Europe/Madrid:20260425T203000
DTSTAMP:20260425T164721
CREATED:20260304T092604Z
LAST-MODIFIED:20260304T092605Z
UID:55969-1777149000-1777149000@canalreus.cat
SUMMARY:Muses Festival: Elena García
DESCRIPTION:Dissabte\, 25 d’abril / 20:30h / Castell de La Selva del Camp \n\n\n\nAmb una trajectòria vinculada a l’escena independent estatal i amb presència a Radio 3\, Elena García s’ha consolidat com una de les veus emergents amb més personalitat del panorama actual. La seva proposta combina sensibilitat melòdica i profunditat lírica\, movent-se entre el pop d’autor i sonoritats indie contemporànies. \n\n\n\nLes seves cançons parteixen de l’experiència íntima —les contradiccions\, les fragilitats\, els processos de canvi— per convertir-se en relats compartits. La seva veu\, càlida però ferma\, sosté l’emoció amb naturalitat\, mentre que l’acompanyament musical crea atmosferes que oscil·len entre la delicadesa acústica i la intensitat elèctrica. \n\n\n\nEn directe\, Elena García desplega una energia continguda però magnètica\, generant una connexió honesta amb el públic. Al MUSES Primavera\, la seva actuació serà un espai per deixar-se travessar per cançons que abracen la vulnerabilitat i celebren la força de dir —i cantar— allò que sovint costa posar en paraules.
URL:https://canalreus.cat/esdeveniments/muses-festival-elena-garcia/
LOCATION:Catalunya
ATTACH;FMTTYPE=image/png:https://canalreus.cat/wp-content/uploads/2026/03/image-8.png
END:VEVENT
BEGIN:VEVENT
DTSTART;TZID=Europe/Madrid:20260425T220000
DTEND;TZID=Europe/Madrid:20260425T220000
DTSTAMP:20260425T164721
CREATED:20260408T114234Z
LAST-MODIFIED:20260408T114236Z
UID:58849-1777154400-1777154400@canalreus.cat
SUMMARY:Concert: Anarres
DESCRIPTION:Anarres és un grup de música rock de la Sénia format\, en gran part\, per antics membres de Mascarats. La seua música invita a reflexionar i a imaginar un món millor. Amb aquesta declaració d’intencions adopta el nom d’Anarres\, un planeta fictici de la novel·la Els desposseïts d’Ursula K. Le Guin\, que per a la banda senienca simbolitza el refugi des del qual poder aïllar-se del cants de sirena propagandístics per crear en llibertat. \n\n\n\nL’any 2022 va treure el seu primer disc: L’illa dels referents. Es tracta d’un LP de 12 cançons de rock en català produïdes\, enregistrades\, mesclades i masteritzades a Nu Estudi (la Sénia). Pròximament publicaran el seu segon LP\, El teatre de l’oblit\, un disc conceptual amb una important càrrega crítica i filosòfica que girarà entorn de la relació del subjecte contemporani amb el temps. Fins al moment\, han publicat tres de les cançons que conformaran el disc: Deixar-la anar\, L’àmfora de Wang i El teatre de l’oblit\, cançó que dona nom al disc.
URL:https://canalreus.cat/esdeveniments/concert-anarres/
LOCATION:Lo Submarino Reus\, Carrer de Granollers\, 11\, 43204\, Reus\, Tarragona\, Spain
ATTACH;FMTTYPE=image/png:https://canalreus.cat/wp-content/uploads/2026/04/image-20.png
END:VEVENT
END:VCALENDAR